BEGIN:VCALENDAR
VERSION:2.0
PRODID:-//Mairie de Drap - ECPv5.14.0.4//NONSGML v1.0//EN
CALSCALE:GREGORIAN
METHOD:PUBLISH
X-WR-CALNAME:Mairie de Drap
X-ORIGINAL-URL:http://www.ville-drap.fr
X-WR-CALDESC:évènements pour Mairie de Drap
BEGIN:VTIMEZONE
TZID:UTC
BEGIN:STANDARD
TZOFFSETFROM:+0000
TZOFFSETTO:+0000
TZNAME:UTC
DTSTART:20260101T000000
END:STANDARD
END:VTIMEZONE
BEGIN:VEVENT
DTSTART;TZID=UTC:20260204T100000
DTEND;TZID=UTC:20260204T110000
DTSTAMP:20260422T031650
CREATED:20260121T161034Z
LAST-MODIFIED:20260121T161034Z
UID:17614-1770199200-1770202800@www.ville-drap.fr
SUMMARY:1\, 2\, 3... je conte
DESCRIPTION:Mercredi 4 février\n10 h – 11 h 00\nMédiathèque du centre village\nGratuit\nInscriptions au 04 92 00 50 53 (SVDB) \n  \nPlus d’infos…\nAnimation enfants -parents autour du livre proposée par le relais Petite enfance SIVOM Val de Banquière pour les enfants de 0 à 6 ans. \n  \n 
URL:http://www.ville-drap.fr/events/1-2-3-je-conte/
END:VEVENT
END:VCALENDAR