BEGIN:VCALENDAR
VERSION:2.0
PRODID:-//Mairie de Drap - ECPv5.14.0.4//NONSGML v1.0//EN
CALSCALE:GREGORIAN
METHOD:PUBLISH
X-WR-CALNAME:Mairie de Drap
X-ORIGINAL-URL:http://www.ville-drap.fr
X-WR-CALDESC:évènements pour Mairie de Drap
BEGIN:VTIMEZONE
TZID:UTC
BEGIN:STANDARD
TZOFFSETFROM:+0000
TZOFFSETTO:+0000
TZNAME:UTC
DTSTART:20250101T000000
END:STANDARD
END:VTIMEZONE
BEGIN:VEVENT
DTSTART;TZID=UTC:20251020T140000
DTEND;TZID=UTC:20251020T140000
DTSTAMP:20260419T141454
CREATED:20251014T151628Z
LAST-MODIFIED:20251014T151628Z
UID:17294-1760968800-1760968800@www.ville-drap.fr
SUMMARY:Ateliers sport santé bien-être : Sophrologie
DESCRIPTION:14 h 00 – 15 h 30\nGratuit\nInscription obligatoire au 06 25 86 57 88 \n  \nOrganisé par la Commune de Drap en partenariat avec le SIVOM Val de Banquière pour les + de 60 ans.
URL:http://www.ville-drap.fr/events/ateliers-sport-sante-bien-etre-sophrologie/
END:VEVENT
END:VCALENDAR