BEGIN:VCALENDAR
VERSION:2.0
PRODID:-//Mairie de Drap - ECPv5.14.0.4//NONSGML v1.0//EN
CALSCALE:GREGORIAN
METHOD:PUBLISH
X-WR-CALNAME:Mairie de Drap
X-ORIGINAL-URL:http://www.ville-drap.fr
X-WR-CALDESC:évènements pour Mairie de Drap
BEGIN:VTIMEZONE
TZID:UTC
BEGIN:STANDARD
TZOFFSETFROM:+0000
TZOFFSETTO:+0000
TZNAME:UTC
DTSTART:20260101T000000
END:STANDARD
END:VTIMEZONE
BEGIN:VEVENT
DTSTART;TZID=UTC:20260111T133000
DTEND;TZID=UTC:20260111T170000
DTSTAMP:20260421T181103
CREATED:20251222T112845Z
LAST-MODIFIED:20260105T172406Z
UID:17527-1768138200-1768150800@www.ville-drap.fr
SUMMARY:Cérémonie des voeux du Maire à la population
DESCRIPTION:Dimanche 11 janvier\n14 h 00\n(accueil du public dès 13 h 30)\nEspace Jean Ferrat
URL:http://www.ville-drap.fr/events/ceremonie-des-voeux-du-maire-a-la-population-2/
END:VEVENT
END:VCALENDAR