BEGIN:VCALENDAR
VERSION:2.0
PRODID:-//Mairie de Drap - ECPv5.14.0.4//NONSGML v1.0//EN
CALSCALE:GREGORIAN
METHOD:PUBLISH
X-WR-CALNAME:Mairie de Drap
X-ORIGINAL-URL:http://www.ville-drap.fr
X-WR-CALDESC:évènements pour Mairie de Drap
BEGIN:VTIMEZONE
TZID:UTC
BEGIN:STANDARD
TZOFFSETFROM:+0000
TZOFFSETTO:+0000
TZNAME:UTC
DTSTART:20250101T000000
END:STANDARD
END:VTIMEZONE
BEGIN:VEVENT
DTSTART;TZID=UTC:20251025T203000
DTEND;TZID=UTC:20251025T223000
DTSTAMP:20260420T012848
CREATED:20250911T103021Z
LAST-MODIFIED:20250912T120420Z
UID:17216-1761424200-1761431400@www.ville-drap.fr
SUMMARY:Concert du groupe "Vipers Queen" (hommage à Queen)
DESCRIPTION:      \nSamedi 25 octobre\n  \n20 h 30\nEspace Jean Ferrat\nBilletterie en ligne en cliquant ici. \n  \nPlus d’infos…\nRevivez les plus grandes chansons de Queen en live avec le groupe « Vipers Queen » dans sa nouvelle tournée « Européen Tour 2025 ». \nVipers Queen est un groupe italien rendant hommage à Freddie Mercury et au groupe Queen. Depuis 2002\, ils ont donné plus de 1000 représentations\,  recréant à merveille les morceaux légendaires de ce groupe Britannique.
URL:http://www.ville-drap.fr/events/concert-du-groupe-vipers-queen-hommage-a-queen/
END:VEVENT
END:VCALENDAR