BEGIN:VCALENDAR
VERSION:2.0
PRODID:-//Mairie de Drap - ECPv5.14.0.4//NONSGML v1.0//EN
CALSCALE:GREGORIAN
METHOD:PUBLISH
X-WR-CALNAME:Mairie de Drap
X-ORIGINAL-URL:http://www.ville-drap.fr
X-WR-CALDESC:évènements pour Mairie de Drap
BEGIN:VTIMEZONE
TZID:UTC
BEGIN:STANDARD
TZOFFSETFROM:+0000
TZOFFSETTO:+0000
TZNAME:UTC
DTSTART:20260101T000000
END:STANDARD
END:VTIMEZONE
BEGIN:VEVENT
DTSTART;TZID=UTC:20260124T203000
DTEND;TZID=UTC:20260124T230000
DTSTAMP:20260421T225853
CREATED:20260123T161641Z
LAST-MODIFIED:20260123T161658Z
UID:17639-1769286600-1769295600@www.ville-drap.fr
SUMMARY:Concert hommage à Abba
DESCRIPTION:Samedi 24 janvier\n  \n20 h 30 – Espace Jean Ferrat \nInfos et billetterie en cliquant ici \n 
URL:http://www.ville-drap.fr/events/concert-hommage-a-abba/
END:VEVENT
END:VCALENDAR