BEGIN:VCALENDAR
VERSION:2.0
PRODID:-//Mairie de Drap - ECPv5.14.0.4//NONSGML v1.0//EN
CALSCALE:GREGORIAN
METHOD:PUBLISH
X-WR-CALNAME:Mairie de Drap
X-ORIGINAL-URL:http://www.ville-drap.fr
X-WR-CALDESC:évènements pour Mairie de Drap
BEGIN:VTIMEZONE
TZID:UTC
BEGIN:STANDARD
TZOFFSETFROM:+0000
TZOFFSETTO:+0000
TZNAME:UTC
DTSTART:20250101T000000
END:STANDARD
END:VTIMEZONE
BEGIN:VEVENT
DTSTART;TZID=UTC:20251024T130000
DTEND;TZID=UTC:20251024T160000
DTSTAMP:20260419T222236
CREATED:20251015T121219Z
LAST-MODIFIED:20251015T121219Z
UID:17333-1761310800-1761321600@www.ville-drap.fr
SUMMARY:Défi Rose : séance de relaxation et sensibilisation
DESCRIPTION:Vendredi 24 Octobre\n13h – 16h : Séance de relaxation-méditation suivie d’une sensibilisation animée par le Centre de Dépistage des Cancers\nGratuit\nInscription obligatoire au 04 97 00 06 30 \n\nPlus d’infos…\nLa Commune de Drap\, entourée de ses partenaires\, se mobilise pour Octobre Rose\, le mois de sensibilisation au dépistage du cancer du sein\, à travers un appel aux dons lors des manifestations du mois. \n 
URL:http://www.ville-drap.fr/events/defi-rose-seance-de-relaxation-et-sensibilisation/
END:VEVENT
END:VCALENDAR