BEGIN:VCALENDAR
VERSION:2.0
PRODID:-//Mairie de Drap - ECPv5.14.0.4//NONSGML v1.0//EN
CALSCALE:GREGORIAN
METHOD:PUBLISH
X-WR-CALNAME:Mairie de Drap
X-ORIGINAL-URL:http://www.ville-drap.fr
X-WR-CALDESC:évènements pour Mairie de Drap
BEGIN:VTIMEZONE
TZID:UTC
BEGIN:STANDARD
TZOFFSETFROM:+0000
TZOFFSETTO:+0000
TZNAME:UTC
DTSTART:20250101T000000
END:STANDARD
END:VTIMEZONE
BEGIN:VEVENT
DTSTART;TZID=UTC:20250624T190000
DTEND;TZID=UTC:20250624T220000
DTSTAMP:20260421T141530
CREATED:20250619T093101Z
LAST-MODIFIED:20250619T093101Z
UID:17054-1750791600-1750802400@www.ville-drap.fr
SUMMARY:Fête patronale : "Feu de la Saint Jean"
DESCRIPTION:Mardi 24 juin\n19 h 00 : Messe solennelle de la Saint Jean-Baptiste Place de la Libération\, célébrée par Son Exc. Mgr Jean-Philippe NAULT\, \nsuivie de la procession dans les rues du village \nPrésentation des travaux de réfection du toit de l’église et du clocher \nApéritif offert par la Municipalité et feu de la Saint Jean-Baptiste \n  \n 
URL:http://www.ville-drap.fr/events/fete-patronale-feu-de-la-saint-jean-2/
END:VEVENT
END:VCALENDAR