BEGIN:VCALENDAR
VERSION:2.0
PRODID:-//Mairie de Drap - ECPv5.14.0.4//NONSGML v1.0//EN
CALSCALE:GREGORIAN
METHOD:PUBLISH
X-WR-CALNAME:Mairie de Drap
X-ORIGINAL-URL:http://www.ville-drap.fr
X-WR-CALDESC:évènements pour Mairie de Drap
BEGIN:VTIMEZONE
TZID:UTC
BEGIN:STANDARD
TZOFFSETFROM:+0000
TZOFFSETTO:+0000
TZNAME:UTC
DTSTART:20250101T000000
END:STANDARD
END:VTIMEZONE
BEGIN:VEVENT
DTSTART;TZID=UTC:20251023T180000
DTEND;TZID=UTC:20251023T180000
DTSTAMP:20260419T173701
CREATED:20251014T152100Z
LAST-MODIFIED:20251014T152100Z
UID:17309-1761242400-1761242400@www.ville-drap.fr
SUMMARY:Jeudis cinéma de Drap : « Gabby et la maison magique »
DESCRIPTION:Jeudi 23 octobre\n18 h 00\nEspace Jean Ferrat\n€\, 3€ pour les moins de 14 ans\nBilletterie uniquement sur place à partir de 17 h 30 \n  \nPlus d’infos…\n1h 38min | Animation\, Aventure\, Comédie\, Famille\nDe Ryan Crego | Par Ryan Crego\, Melanie Wilson LaBracio\nAvec Laila Lockhart Kraner\, Lior Chabbat\, Kristen Wiig \nGabby part pour une virée en voiture avec sa grand-mère Gigi vers la ville imaginaire de Chat Francisco. Mais lorsque sa précieuse maison de poupée tombe entre les mains de Véra\, une femme excentrique dangereusement obsédée par les chats\, Gabby va partir à l’aventure\, cette fois dans le monde réel\, afin de récupérer ses Gabby Chats et sauver leur maison avant qu’il ne soit trop tard. \nDécouvrez la bande-annonce ici \n  \n 
URL:http://www.ville-drap.fr/events/jeudis-cinema-de-drap-gabby-et-la-maison-magique/
END:VEVENT
END:VCALENDAR