BEGIN:VCALENDAR
VERSION:2.0
PRODID:-//Mairie de Drap - ECPv5.14.0.4//NONSGML v1.0//EN
CALSCALE:GREGORIAN
METHOD:PUBLISH
X-WR-CALNAME:Mairie de Drap
X-ORIGINAL-URL:http://www.ville-drap.fr
X-WR-CALDESC:évènements pour Mairie de Drap
BEGIN:VTIMEZONE
TZID:UTC
BEGIN:STANDARD
TZOFFSETFROM:+0000
TZOFFSETTO:+0000
TZNAME:UTC
DTSTART:20260101T000000
END:STANDARD
END:VTIMEZONE
BEGIN:VEVENT
DTSTART;TZID=UTC:20260226T180000
DTEND;TZID=UTC:20260226T193000
DTSTAMP:20260422T072756
CREATED:20260123T131733Z
LAST-MODIFIED:20260123T131733Z
UID:17631-1772128800-1772134200@www.ville-drap.fr
SUMMARY:Jeudis cinéma de Drap : « Les légendaires »
DESCRIPTION:Jeudi 26 février\n18 h 00\nEspace Jean Ferrat\n5€\, 3€ pour les moins de 14 ans\nBilletterie uniquement sur place 30 minutes avant le début de la séance \nPlus d’infos…\n1h 32min | Animation\, Aventure\, Fantastique\nDe Guillaume Ivernel\nAvec Roman Doduik\, Esthèle Dumand\, Elise Tilloloy \nLes Légendaires\, intrépides aventuriers\, étaient les plus grands héros de leur temps. Mais suite à une terrible malédiction\, les voilà redevenus… des enfants de 10 ans ! Danaël\, Jadina\, Gryf\, Shimy et Razzia vont unir leurs pouvoirs pour vaincre le sorcier Darkhell et libérer leur planète de l’enfance éternelle… \nDécouvrez la bande-annonce ici
URL:http://www.ville-drap.fr/events/jeudis-cinema-de-drap-les-legendaires/
END:VEVENT
END:VCALENDAR