BEGIN:VCALENDAR
VERSION:2.0
PRODID:-//Mairie de Drap - ECPv5.14.0.4//NONSGML v1.0//EN
CALSCALE:GREGORIAN
METHOD:PUBLISH
X-WR-CALNAME:Mairie de Drap
X-ORIGINAL-URL:http://www.ville-drap.fr
X-WR-CALDESC:évènements pour Mairie de Drap
BEGIN:VTIMEZONE
TZID:UTC
BEGIN:STANDARD
TZOFFSETFROM:+0000
TZOFFSETTO:+0000
TZNAME:UTC
DTSTART:20260101T000000
END:STANDARD
END:VTIMEZONE
BEGIN:VEVENT
DTSTART;TZID=UTC:20260122T203000
DTEND;TZID=UTC:20260122T223000
DTSTAMP:20260421T194435
CREATED:20260121T152621Z
LAST-MODIFIED:20260121T152725Z
UID:17603-1769113800-1769121000@www.ville-drap.fr
SUMMARY:Jeudis cinéma de Drap : "Qui brille au combat"
DESCRIPTION:Jeudi 22 janvier\n20 h 30\nEspace Jean Ferrat\n5€\, 3€ pour les moins de 14 ans\nBilletterie uniquement sur place à partir de 20 h 30 \nPlus d’infos…\n1h 40min | Drame\nDe Joséphine Japy\nAvec Mélanie Laurent\, Pierre-Yves Cardinal\, Sarah Pachoud \nQui Brille au Combat est le sens étymologique du prénom Bertille\, la plus jeune des deux sœurs de la famille Roussier\, atteinte d’un handicap lourd au diagnostic incertain. La famille vit dans un équilibre fragile autour de cet enfant qui accapare les efforts et pensées de chacun\, et qui pourrait perdre la vie à tout moment. Chacun se construit\, vit comme il peut avec les exigences de ce rythme et les incertitudes qui l’accompagnent. Les parents\, Madeleine et Gilles\, la sœur aînée\, Marion. Quel quotidien et quels avenirs pour une mère\, un père\, un couple\, une adolescente que la responsabilité ​ de sa cadette a rendu trop vite adulte ? Lorsqu’un nouveau diagnostic est posé\, les cartes sont rebattues et un nouvel horizon se dessine… \nDécouvrez la bande-annonce ici
URL:http://www.ville-drap.fr/events/jeudis-cinema-de-drap-qui-brille-au-combat/
END:VEVENT
END:VCALENDAR