BEGIN:VCALENDAR
VERSION:2.0
PRODID:-//Mairie de Drap - ECPv5.14.0.4//NONSGML v1.0//EN
CALSCALE:GREGORIAN
METHOD:PUBLISH
X-WR-CALNAME:Mairie de Drap
X-ORIGINAL-URL:http://www.ville-drap.fr
X-WR-CALDESC:évènements pour Mairie de Drap
BEGIN:VTIMEZONE
TZID:UTC
BEGIN:STANDARD
TZOFFSETFROM:+0000
TZOFFSETTO:+0000
TZNAME:UTC
DTSTART:20250101T000000
END:STANDARD
END:VTIMEZONE
BEGIN:VEVENT
DTSTART;TZID=UTC:20251024T150000
DTEND;TZID=UTC:20251024T170000
DTSTAMP:20260420T000523
CREATED:20251015T065733Z
LAST-MODIFIED:20251015T134956Z
UID:17325-1761318000-1761325200@www.ville-drap.fr
SUMMARY:Pièce de théâtre "L'oiseau et l'enfant samouraï"
DESCRIPTION:Vendredi 24 octobre\n\n15h00\nAmphithéâtre du Mas\nEntrée libre\n\n\nPlus d’infos…\nL’OISEAU ET L’ENFANT SAMOURAÏ raconte l’exode de deux êtres vivants. L’un appartenant à l’espèce humaine\, l’autre à la gent ailée. Tous deux font faire alliance pour « s’en sortir ». Trouver un pays où la guerre n’a plus cours\, où les arbres accueillent sous leurs branches la fraicheur de l‘ombre et la paix des conversations enchantées. Un monde où les vivants aiment le vivant. \nBande-annonce du spectacle ici\nGalerie photos du spectacle\nPour en savoir plus sur la Compagnie BAL cliquez ici
URL:http://www.ville-drap.fr/events/loiseau-et-lenfant-samourai/
END:VEVENT
END:VCALENDAR