BEGIN:VCALENDAR
VERSION:2.0
PRODID:-//Mairie de Drap - ECPv5.14.0.4//NONSGML v1.0//EN
CALSCALE:GREGORIAN
METHOD:PUBLISH
X-WR-CALNAME:Mairie de Drap
X-ORIGINAL-URL:http://www.ville-drap.fr
X-WR-CALDESC:évènements pour Mairie de Drap
BEGIN:VTIMEZONE
TZID:UTC
BEGIN:STANDARD
TZOFFSETFROM:+0000
TZOFFSETTO:+0000
TZNAME:UTC
DTSTART:20250101T000000
END:STANDARD
END:VTIMEZONE
BEGIN:VEVENT
DTSTART;TZID=UTC:20251112T200000
DTEND;TZID=UTC:20251112T230000
DTSTAMP:20260420T212323
CREATED:20251112T123701Z
LAST-MODIFIED:20251112T123701Z
UID:17419-1762977600-1762988400@www.ville-drap.fr
SUMMARY:Projection du film : "Le temps de la désobéissance"
DESCRIPTION:Mardi 12 novembre\n20 h 00\nEspace Jean Ferrat\nGratuit \nPlus d’infos…\nLa Commune de Drap accueille la projection du film «  »Le temps de la désobéissance » dans le cadre l’édition 2025 du Festival international du film sur la Résistance\, organisé par l’Association azuréenne des Amis du Musée de la Résistance. \n 
URL:http://www.ville-drap.fr/events/projection-du-film-le-temps-de-la-desobeissance/
END:VEVENT
END:VCALENDAR