BEGIN:VCALENDAR
VERSION:2.0
PRODID:-//Mairie de Drap - ECPv5.14.0.4//NONSGML v1.0//EN
CALSCALE:GREGORIAN
METHOD:PUBLISH
X-WR-CALNAME:Mairie de Drap
X-ORIGINAL-URL:http://www.ville-drap.fr
X-WR-CALDESC:évènements pour Mairie de Drap
BEGIN:VTIMEZONE
TZID:UTC
BEGIN:STANDARD
TZOFFSETFROM:+0000
TZOFFSETTO:+0000
TZNAME:UTC
DTSTART:20250101T000000
END:STANDARD
END:VTIMEZONE
BEGIN:VEVENT
DTSTART;TZID=UTC:20251027T183000
DTEND;TZID=UTC:20251027T183000
DTSTAMP:20260420T055016
CREATED:20251015T065115Z
LAST-MODIFIED:20251017T092527Z
UID:17320-1761589800-1761589800@www.ville-drap.fr
SUMMARY:Représentation de la pièce "Mon frère chasse les dinosaures"
DESCRIPTION:Lundi 27 octobre\n\n18h30\nEspace Jean Ferrat \nGratuit\, sur réservations \n\nPlus d’infos…\n\nA partir de 10 ans\nOrganisée par la Commune de Drap en partenariat avec le SIVOM Val de Banquière\, dans le cadre d’une journée de lutte contre les discriminations.
URL:http://www.ville-drap.fr/events/representation-de-la-piece-mon-frere-chasse-les-dinosaures/
END:VEVENT
END:VCALENDAR