BEGIN:VCALENDAR
VERSION:2.0
PRODID:-//Mairie de Drap - ECPv5.14.0.4//NONSGML v1.0//EN
CALSCALE:GREGORIAN
METHOD:PUBLISH
X-WR-CALNAME:Mairie de Drap
X-ORIGINAL-URL:http://www.ville-drap.fr
X-WR-CALDESC:évènements pour Mairie de Drap
BEGIN:VTIMEZONE
TZID:Europe/Paris
BEGIN:DAYLIGHT
TZOFFSETFROM:+0100
TZOFFSETTO:+0200
TZNAME:CEST
DTSTART:20190331T010000
END:DAYLIGHT
BEGIN:STANDARD
TZOFFSETFROM:+0200
TZOFFSETTO:+0100
TZNAME:CET
DTSTART:20191027T010000
END:STANDARD
END:VTIMEZONE
BEGIN:VEVENT
DTSTART;TZID=Europe/Paris:20190706T210000
DTEND;TZID=Europe/Paris:20190706T230000
DTSTAMP:20260422T083923
CREATED:20190607T095251Z
LAST-MODIFIED:20190607T095251Z
UID:8345-1562446800-1562454000@www.ville-drap.fr
SUMMARY:Soirée estivale du Conseil départemental : « THE SOUL EN SCENE»
DESCRIPTION:Samedi 6 juillet\n21 h\nEspace Jean Ferrat\nEntrée libre\nRenseignements au 04 93 01 45 55 \nPlus d’infos…\nFreddie Hall chante la soul music. Son style vocal raconte l’histoire de l’ âme de cette musique… Jeune\, il rencontre Nat Kind Cole… Le style de Freddie en sera définitivement influencé. Il a partagé la scène avec Aretha Franklin\, The Temptations\, Gladys Knight. Il est invité régulièrement aux Etats-Unis\, en Europe et au cours de ces 15 dernières années Las Vegas\, Munich\, Prague et Belgrade.
URL:http://www.ville-drap.fr/events/soiree-estivale-du-conseil-departemental-the-soul-en-scene/
END:VEVENT
END:VCALENDAR