BEGIN:VCALENDAR
VERSION:2.0
PRODID:-//Mairie de Drap - ECPv5.14.0.4//NONSGML v1.0//EN
CALSCALE:GREGORIAN
METHOD:PUBLISH
X-WR-CALNAME:Mairie de Drap
X-ORIGINAL-URL:http://www.ville-drap.fr
X-WR-CALDESC:évènements pour Mairie de Drap
BEGIN:VTIMEZONE
TZID:UTC
BEGIN:STANDARD
TZOFFSETFROM:+0000
TZOFFSETTO:+0000
TZNAME:UTC
DTSTART:20250101T000000
END:STANDARD
END:VTIMEZONE
BEGIN:VEVENT
DTSTART;TZID=UTC:20251122T210000
DTEND;TZID=UTC:20251122T230000
DTSTAMP:20260420T225512
CREATED:20251017T093015Z
LAST-MODIFIED:20251017T093112Z
UID:17366-1763845200-1763852400@www.ville-drap.fr
SUMMARY:Spectacle "Balavoine experience"
DESCRIPTION:  \nSamedi 22 novembre\n21 h 00\nEspace Jean Ferrat\nBilletterie en ligne en cliquant ici   \nPlus d’infos…\nDans un décor cyberpunk tout droit sorti d’un film de science-fiction\, Le drapois Auklair\, accompagné de ses musiciens\, choristes et techniciens\, vous embarque dans l’œuvre de Daniel Balavoine. Un voyage rendu possible grâce à une mystérieuse machine et à son assistant virtuel\, AUKIS\, bien utile à Auklair pour paramétrer cette incroyable expérience musicale. \nVous retrouverez les plus grands succès du chanteur en version live mais aussi ses plus mémorables coups de gueule. La vie et l’œuvre de Daniel Balavoine défilent dans un rythme effréné ponctué de moments suspendus. Dans cette mise en scène réglée au millimètre\, vous ne serez pas à l’abri de quelques surprises et de quelques interférences inattendues… \nEn transportant l’œuvre du chanteur des années 80 dans un futur où ses chansons restent d’actualité\, Auklair rend hommage à BALAVOINE de la plus belles des manières. \nBALAVOINE EXPERIENCE n’est pas un tribute ni un show de sosie. \n 
URL:http://www.ville-drap.fr/events/spectacle-balavoine-experience/
END:VEVENT
END:VCALENDAR