BEGIN:VCALENDAR
VERSION:2.0
PRODID:-//Mairie de Drap - ECPv5.14.0.4//NONSGML v1.0//EN
CALSCALE:GREGORIAN
METHOD:PUBLISH
X-WR-CALNAME:Mairie de Drap
X-ORIGINAL-URL:http://www.ville-drap.fr
X-WR-CALDESC:évènements pour Mairie de Drap
BEGIN:VTIMEZONE
TZID:UTC
BEGIN:STANDARD
TZOFFSETFROM:+0000
TZOFFSETTO:+0000
TZNAME:UTC
DTSTART:20250101T000000
END:STANDARD
END:VTIMEZONE
BEGIN:VEVENT
DTSTART;TZID=UTC:20251222T153000
DTEND;TZID=UTC:20251222T170000
DTSTAMP:20260421T114725
CREATED:20251222T111943Z
LAST-MODIFIED:20251222T111943Z
UID:17514-1766417400-1766422800@www.ville-drap.fr
SUMMARY:Spectacle de Noël : "Les trois contes farfelus"
DESCRIPTION: \nLundi 22 décembre\n15 h 30\nMédiathèque de La Condamine\nGratuit – goûter offert \nPlus d’infos…\nSpectacle proposé par la Commune de Drap et joué par la Compagnie du Théâtre de Lumière.
URL:http://www.ville-drap.fr/events/spectacle-de-noel-les-trois-contes-farfelus/
END:VEVENT
END:VCALENDAR