BEGIN:VCALENDAR
VERSION:2.0
PRODID:-//Mairie de Drap - ECPv5.14.0.4//NONSGML v1.0//EN
CALSCALE:GREGORIAN
METHOD:PUBLISH
X-WR-CALNAME:Mairie de Drap
X-ORIGINAL-URL:http://www.ville-drap.fr
X-WR-CALDESC:évènements pour Mairie de Drap
BEGIN:VTIMEZONE
TZID:UTC
BEGIN:STANDARD
TZOFFSETFROM:+0000
TZOFFSETTO:+0000
TZNAME:UTC
DTSTART:20250101T000000
END:STANDARD
END:VTIMEZONE
BEGIN:VEVENT
DTSTART;TZID=UTC:20251223T153000
DTEND;TZID=UTC:20251223T170000
DTSTAMP:20260421T131856
CREATED:20251222T112153Z
LAST-MODIFIED:20251222T112153Z
UID:17519-1766503800-1766509200@www.ville-drap.fr
SUMMARY:Spectacle musical «Petit croco et le lutin farceur »
DESCRIPTION:Mardi 23 décembre\n\n15 h 30\nMédiathèque du centre village (au Centre Culturel des Gras\, 1 chemin des Gras)\nGratuit\n\nPlus d’infos…\n\nSpectacle proposé par la Commune de Drap et joué par la Compagnie Duo Liber
URL:http://www.ville-drap.fr/events/spectacle-musical-petit-croco-et-le-lutin-farceur/
END:VEVENT
END:VCALENDAR