BEGIN:VCALENDAR
VERSION:2.0
PRODID:-//Mairie de Drap - ECPv5.14.0.4//NONSGML v1.0//EN
CALSCALE:GREGORIAN
METHOD:PUBLISH
X-WR-CALNAME:Mairie de Drap
X-ORIGINAL-URL:http://www.ville-drap.fr
X-WR-CALDESC:évènements pour Mairie de Drap
BEGIN:VTIMEZONE
TZID:UTC
BEGIN:STANDARD
TZOFFSETFROM:+0000
TZOFFSETTO:+0000
TZNAME:UTC
DTSTART:20250101T000000
END:STANDARD
END:VTIMEZONE
BEGIN:VEVENT
DTSTART;TZID=UTC:20251206T160000
DTEND;TZID=UTC:20251206T220000
DTSTAMP:20260421T084228
CREATED:20251124T110859Z
LAST-MODIFIED:20251124T111004Z
UID:17449-1765036800-1765058400@www.ville-drap.fr
SUMMARY:Téléthon
DESCRIPTION:Samedi 6 décembre 2025\nDe 16h à 22h\nEspace Jean Ferrat\nRestauration disponible sur place \nPlus d’infos…\nLa Commune de Drap organise une soirée de concerts dans le cadre du Téléthon: découvrez ou redécouvrez les groupes The Moods\, Calamity’s Trib et Dopamine !
URL:http://www.ville-drap.fr/events/telethon-2/
END:VEVENT
END:VCALENDAR