BEGIN:VCALENDAR
VERSION:2.0
PRODID:-//Mairie de Drap - ECPv5.14.0.4//NONSGML v1.0//EN
CALSCALE:GREGORIAN
METHOD:PUBLISH
X-WR-CALNAME:Mairie de Drap
X-ORIGINAL-URL:http://www.ville-drap.fr
X-WR-CALDESC:évènements pour Mairie de Drap
BEGIN:VTIMEZONE
TZID:Europe/Paris
BEGIN:DAYLIGHT
TZOFFSETFROM:+0100
TZOFFSETTO:+0200
TZNAME:CEST
DTSTART:20190331T010000
END:DAYLIGHT
BEGIN:STANDARD
TZOFFSETFROM:+0200
TZOFFSETTO:+0100
TZNAME:CET
DTSTART:20191027T010000
END:STANDARD
END:VTIMEZONE
BEGIN:VEVENT
DTSTART;TZID=Europe/Paris:20190708T210000
DTEND;TZID=Europe/Paris:20190708T230000
DTSTAMP:20260422T100242
CREATED:20190618T082415Z
LAST-MODIFIED:20190618T085208Z
UID:8356-1562619600-1562626800@www.ville-drap.fr
SUMMARY:Tournée Nice Matin - Soirée spectacle
DESCRIPTION:Lundi 8 juillet\nà partir de 21 h\nInscriptions au concours de chant à partir de 17 h 30\nEsplanade Jean Ferrat\nGratuit\nInfos au 04 93 01 45 55 \n\nPlus d’infos…\n3 heures de spectacle gratuit\, rythmée par l’humour et le chant\, avec un concours de chant. La soirée sera présentée par l’humoriste Marco Paolo\, qui accueillera sur scène Erick BARET\, imitateur\, «La Troupe» Var-Matin / Nice-Matin menée par Frank CASTELLANO et Liane Foly qui interprétera ses plus grands titres !
URL:http://www.ville-drap.fr/events/tournee-nice-matin-soiree-spectacle/
END:VEVENT
END:VCALENDAR