BEGIN:VCALENDAR
VERSION:2.0
PRODID:-//Mairie de Drap - ECPv5.14.0.4//NONSGML v1.0//EN
CALSCALE:GREGORIAN
METHOD:PUBLISH
X-WR-CALNAME:Mairie de Drap
X-ORIGINAL-URL:http://www.ville-drap.fr
X-WR-CALDESC:évènements pour Mairie de Drap
BEGIN:VTIMEZONE
TZID:Europe/Paris
BEGIN:DAYLIGHT
TZOFFSETFROM:+0100
TZOFFSETTO:+0200
TZNAME:CEST
DTSTART:20250330T010000
END:DAYLIGHT
BEGIN:STANDARD
TZOFFSETFROM:+0200
TZOFFSETTO:+0100
TZNAME:CET
DTSTART:20251026T010000
END:STANDARD
END:VTIMEZONE
BEGIN:VEVENT
DTSTART;TZID=Europe/Paris:20251029T090000
DTEND;TZID=Europe/Paris:20251029T130000
DTSTAMP:20260420T084442
CREATED:20251015T132544Z
LAST-MODIFIED:20251015T133207Z
UID:17343-1761728400-1761742800@www.ville-drap.fr
SUMMARY:Visite de l’Agence Mobile Lignes d’Azur
DESCRIPTION:Mercredi 29 octobre\n9-13 h\nDevant l’école de La Condamine\n \n\nPlus d’infos…\nInformation sur le réseau\, création de carte\, rechargement d’abonnement\, vente de titres
URL:http://www.ville-drap.fr/events/visite-de-lagence-mobile-lignes-dazur-24/
END:VEVENT
END:VCALENDAR