BEGIN:VCALENDAR
VERSION:2.0
PRODID:-//Mairie de Drap - ECPv5.14.0.4//NONSGML v1.0//EN
CALSCALE:GREGORIAN
METHOD:PUBLISH
X-WR-CALNAME:Mairie de Drap
X-ORIGINAL-URL:http://www.ville-drap.fr
X-WR-CALDESC:évènements pour Mairie de Drap
BEGIN:VTIMEZONE
TZID:UTC
BEGIN:STANDARD
TZOFFSETFROM:+0000
TZOFFSETTO:+0000
TZNAME:UTC
DTSTART:20250101T000000
END:STANDARD
END:VTIMEZONE
BEGIN:VEVENT
DTSTART;TZID=UTC:20251111T090000
DTEND;TZID=UTC:20251111T110000
DTSTAMP:20260420T183138
CREATED:20251022T084217Z
LAST-MODIFIED:20251022T084238Z
UID:17386-1762851600-1762858800@www.ville-drap.fr
SUMMARY:Visite du Centre de Supervision Urbain
DESCRIPTION:Mardi 11 novembre\n9 h – 11 h\nSur inscription obligatoire sur place\, au 32 Bd Stalingrad\, sur présentation d’une pièce d’identité valide du 3 au 11 novembre\nInfos : 06 7 78 23 46
URL:http://www.ville-drap.fr/events/visite-du-centre-de-supervision-urbain/
END:VEVENT
END:VCALENDAR