BEGIN:VCALENDAR
VERSION:2.0
PRODID:-//Mairie de Drap - ECPv5.14.0.4//NONSGML v1.0//EN
CALSCALE:GREGORIAN
METHOD:PUBLISH
X-WR-CALNAME:Mairie de Drap
X-ORIGINAL-URL:https://www.ville-drap.fr
X-WR-CALDESC:évènements pour Mairie de Drap
BEGIN:VTIMEZONE
TZID:Europe/Paris
BEGIN:DAYLIGHT
TZOFFSETFROM:+0100
TZOFFSETTO:+0200
TZNAME:CEST
DTSTART:20180325T010000
END:DAYLIGHT
BEGIN:STANDARD
TZOFFSETFROM:+0200
TZOFFSETTO:+0100
TZNAME:CET
DTSTART:20181028T010000
END:STANDARD
END:VTIMEZONE
BEGIN:VEVENT
DTSTART;TZID=Europe/Paris:20180217T180000
DTEND;TZID=Europe/Paris:20180217T220000
DTSTAMP:20260422T141100
CREATED:20180110T170950Z
LAST-MODIFIED:20180126T161735Z
UID:5546-1518890400-1518904800@www.ville-drap.fr
SUMMARY:10e loto de Drap Gym
DESCRIPTION:Samedi 17 février\nA partir de 18 h\n Espace Jean Ferrat\n Renseignements : 06 15 82 10 00 \nPlus d’infos…\nA l’occasion du 10e anniversaire de cette manifestation\, Drap Gym vous réserve de nombreuses surprises…
URL:https://www.ville-drap.fr/events/10e-loto-de-drap-gym/
END:VEVENT
END:VCALENDAR