BEGIN:VCALENDAR
VERSION:2.0
PRODID:-//Mairie de Drap - ECPv5.14.0.4//NONSGML v1.0//EN
CALSCALE:GREGORIAN
METHOD:PUBLISH
X-WR-CALNAME:Mairie de Drap
X-ORIGINAL-URL:https://www.ville-drap.fr
X-WR-CALDESC:évènements pour Mairie de Drap
BEGIN:VTIMEZONE
TZID:Europe/Paris
BEGIN:DAYLIGHT
TZOFFSETFROM:+0100
TZOFFSETTO:+0200
TZNAME:CEST
DTSTART:20180325T010000
END:DAYLIGHT
BEGIN:STANDARD
TZOFFSETFROM:+0200
TZOFFSETTO:+0100
TZNAME:CET
DTSTART:20181028T010000
END:STANDARD
END:VTIMEZONE
BEGIN:VEVENT
DTSTART;TZID=Europe/Paris:20180414T100000
DTEND;TZID=Europe/Paris:20180414T180000
DTSTAMP:20260423T213210
CREATED:20180322T153912Z
LAST-MODIFIED:20180322T154148Z
UID:5982-1523700000-1523728800@www.ville-drap.fr
SUMMARY:2ème édition de la Journée de l'Environnement
DESCRIPTION:Samedi 14 avril\n10-18 h\n Entrée libre\n Renseignements : 09 61 22 06 87
URL:https://www.ville-drap.fr/events/2eme-edition-de-journee-de-lenvironnement/
END:VEVENT
END:VCALENDAR