BEGIN:VCALENDAR
VERSION:2.0
PRODID:-//Mairie de Drap - ECPv5.14.0.4//NONSGML v1.0//EN
CALSCALE:GREGORIAN
METHOD:PUBLISH
X-WR-CALNAME:Mairie de Drap
X-ORIGINAL-URL:https://www.ville-drap.fr
X-WR-CALDESC:évènements pour Mairie de Drap
BEGIN:VTIMEZONE
TZID:Europe/Paris
BEGIN:DAYLIGHT
TZOFFSETFROM:+0100
TZOFFSETTO:+0200
TZNAME:CEST
DTSTART:20180325T010000
END:DAYLIGHT
BEGIN:STANDARD
TZOFFSETFROM:+0200
TZOFFSETTO:+0100
TZNAME:CET
DTSTART:20181028T010000
END:STANDARD
END:VTIMEZONE
BEGIN:VEVENT
DTSTART;TZID=Europe/Paris:20180527T080000
DTEND;TZID=Europe/Paris:20180527T170000
DTSTAMP:20260424T214443
CREATED:20180517T124533Z
LAST-MODIFIED:20180517T124533Z
UID:6274-1527408000-1527440400@www.ville-drap.fr
SUMMARY:3e Brocafoot
DESCRIPTION:Dimanche 27 mai \nEsplanade Jean Ferrat\n15 € le stand de 2 mètres sur 3 (table non fournie)\nRenseignements : 06 19 61 82 79 et 06 87 10 68 72
URL:https://www.ville-drap.fr/events/3e-brocafoot/
END:VEVENT
END:VCALENDAR