BEGIN:VCALENDAR
VERSION:2.0
PRODID:-//Mairie de Drap - ECPv5.14.0.4//NONSGML v1.0//EN
CALSCALE:GREGORIAN
METHOD:PUBLISH
X-WR-CALNAME:Mairie de Drap
X-ORIGINAL-URL:https://www.ville-drap.fr
X-WR-CALDESC:évènements pour Mairie de Drap
BEGIN:VTIMEZONE
TZID:Europe/Paris
BEGIN:DAYLIGHT
TZOFFSETFROM:+0100
TZOFFSETTO:+0200
TZNAME:CEST
DTSTART:20180325T010000
END:DAYLIGHT
BEGIN:STANDARD
TZOFFSETFROM:+0200
TZOFFSETTO:+0100
TZNAME:CET
DTSTART:20181028T010000
END:STANDARD
END:VTIMEZONE
BEGIN:VEVENT
DTSTART;TZID=Europe/Paris:20180421T200000
DTEND;TZID=Europe/Paris:20180421T230000
DTSTAMP:20260424T013137
CREATED:20180404T130638Z
LAST-MODIFIED:20180411T152300Z
UID:6037-1524340800-1524351600@www.ville-drap.fr
SUMMARY:3e gala des arts martiaux
DESCRIPTION:Samedi 21 avril\n20 h 00\n Espace Jean Ferrat\n Adultes 10 €\, enfants 5 €\n Renseignements : drap.judo@free.fr et 06 61 56 75 51
URL:https://www.ville-drap.fr/events/3e-gala-arts-martiaux/
END:VEVENT
END:VCALENDAR