BEGIN:VCALENDAR
VERSION:2.0
PRODID:-//Mairie de Drap - ECPv5.14.0.4//NONSGML v1.0//EN
CALSCALE:GREGORIAN
METHOD:PUBLISH
X-WR-CALNAME:Mairie de Drap
X-ORIGINAL-URL:https://www.ville-drap.fr
X-WR-CALDESC:évènements pour Mairie de Drap
BEGIN:VTIMEZONE
TZID:UTC
BEGIN:STANDARD
TZOFFSETFROM:+0000
TZOFFSETTO:+0000
TZNAME:UTC
DTSTART:20240101T000000
END:STANDARD
END:VTIMEZONE
BEGIN:VEVENT
DTSTART;TZID=UTC:20240921T100000
DTEND;TZID=UTC:20240921T170000
DTSTAMP:20260423T011434
CREATED:20240731T180417Z
LAST-MODIFIED:20240731T180417Z
UID:16271-1726912800-1726938000@www.ville-drap.fr
SUMMARY:3ème Journée de la nature
DESCRIPTION:Samedi 21 septembre\n10 h -17 h\nEntrée libre\nRenseignements 04 97 00 06 30 \nPlus d’infos…\nLa commune vous convie à une journée nature complètement gratuite. Elle a pour objet la sensibilisation à la protection de l’environnement.
URL:https://www.ville-drap.fr/events/3eme-journee-de-la-nature/
END:VEVENT
END:VCALENDAR