BEGIN:VCALENDAR
VERSION:2.0
PRODID:-//Mairie de Drap - ECPv5.14.0.4//NONSGML v1.0//EN
CALSCALE:GREGORIAN
METHOD:PUBLISH
X-WR-CALNAME:Mairie de Drap
X-ORIGINAL-URL:https://www.ville-drap.fr
X-WR-CALDESC:évènements pour Mairie de Drap
BEGIN:VTIMEZONE
TZID:Europe/Paris
BEGIN:DAYLIGHT
TZOFFSETFROM:+0100
TZOFFSETTO:+0200
TZNAME:CEST
DTSTART:20180325T010000
END:DAYLIGHT
BEGIN:STANDARD
TZOFFSETFROM:+0200
TZOFFSETTO:+0100
TZNAME:CET
DTSTART:20181028T010000
END:STANDARD
END:VTIMEZONE
BEGIN:VEVENT
DTSTART;TZID=Europe/Paris:20180428T093000
DTEND;TZID=Europe/Paris:20180429T170000
DTSTAMP:20260424T052925
CREATED:20180126T162340Z
LAST-MODIFIED:20180126T162340Z
UID:5640-1524907800-1525021200@www.ville-drap.fr
SUMMARY:4e édition du Salon Bioforme
DESCRIPTION:Samedi 28 et dimanche 29 avril\nNon stop de 9 h 30 à  18 h 00\n Espace Jean Ferrat\n Renseignements et inscriptions : 04 93 01 45 25\n Facebook : SALON BIOFORME
URL:https://www.ville-drap.fr/events/4e-edition-salon-bioforme/
END:VEVENT
END:VCALENDAR