BEGIN:VCALENDAR
VERSION:2.0
PRODID:-//Mairie de Drap - ECPv5.14.0.4//NONSGML v1.0//EN
CALSCALE:GREGORIAN
METHOD:PUBLISH
X-WR-CALNAME:Mairie de Drap
X-ORIGINAL-URL:https://www.ville-drap.fr
X-WR-CALDESC:évènements pour Mairie de Drap
BEGIN:VTIMEZONE
TZID:Europe/Paris
BEGIN:DAYLIGHT
TZOFFSETFROM:+0100
TZOFFSETTO:+0200
TZNAME:CEST
DTSTART:20180325T010000
END:DAYLIGHT
BEGIN:STANDARD
TZOFFSETFROM:+0200
TZOFFSETTO:+0100
TZNAME:CET
DTSTART:20181028T010000
END:STANDARD
END:VTIMEZONE
BEGIN:VEVENT
DTSTART;TZID=Europe/Paris:20180614T203000
DTEND;TZID=Europe/Paris:20180614T230000
DTSTAMP:20260425T010928
CREATED:20180509T124645Z
LAST-MODIFIED:20180509T124954Z
UID:6226-1529008200-1529017200@www.ville-drap.fr
SUMMARY:Jeudis cinéma de Drap : "Les municipaux\, ces héros"
DESCRIPTION:Jeudi 14 juin\n20 h 30\n Espace Jean Ferrat\n Entrée 5 €\, 3€ pour les moins de 14 ans\n Billetterie uniquement sur place dès 20 h \nPlus d’infos…\nComédie française d’Eric Carrière et  Francis Ginibre  (1 h 28) avec Eric Carrière\, Francis Ginibre\, Bruno Lochet \nPort Vendres est un port magnifique situé en Catalogne française… Magnifique et tellement français : un maire bling-bling et des employés municipaux toujours à fond !\nÀ fond dans les acquis sociaux\, à fond contre les cadences infernales\, à fond… dans la déconne… celle qui fait qu’on les aime… Et si de plus ils deviennent des héros alors il n’y a plus aucune raison de ne pas s’inscrire à ce voyage dans la vraie vie. \nPour visionner la bande-annonce\, cliquez ici.
URL:https://www.ville-drap.fr/events/6226/
END:VEVENT
END:VCALENDAR