BEGIN:VCALENDAR
VERSION:2.0
PRODID:-//Mairie de Drap - ECPv5.14.0.4//NONSGML v1.0//EN
CALSCALE:GREGORIAN
METHOD:PUBLISH
X-WR-CALNAME:Mairie de Drap
X-ORIGINAL-URL:https://www.ville-drap.fr
X-WR-CALDESC:évènements pour Mairie de Drap
BEGIN:VTIMEZONE
TZID:Europe/Paris
BEGIN:DAYLIGHT
TZOFFSETFROM:+0100
TZOFFSETTO:+0200
TZNAME:CEST
DTSTART:20240331T010000
END:DAYLIGHT
BEGIN:STANDARD
TZOFFSETFROM:+0200
TZOFFSETTO:+0100
TZNAME:CET
DTSTART:20241027T010000
END:STANDARD
END:VTIMEZONE
BEGIN:VEVENT
DTSTART;TZID=Europe/Paris:20240830T183000
DTEND;TZID=Europe/Paris:20240830T203000
DTSTAMP:20260422T195528
CREATED:20240731T182715Z
LAST-MODIFIED:20240731T182715Z
UID:16280-1725042600-1725049800@www.ville-drap.fr
SUMMARY:80ème anniversaire de la Libération de Drap
DESCRIPTION:Vendredi 30 Août\n  \n18h30 : Hommage à Joseph TRON-GIANET sur la Route de Peillon \nsuivi du recueillement Place de la Libération et de la soupe à l’oignon offerte par la municipalité \nAnimation musicale \nDéfilé avec l’association « histoire vivante et d’archéologie expérimentale de La Trinité \nPetite restauration et boissons assurées par Fêtes et Traditions de Drap \nRenseignements : 04 97 00 06 30
URL:https://www.ville-drap.fr/events/80eme-anniversaire-de-la-liberation-de-drap/
END:VEVENT
END:VCALENDAR