BEGIN:VCALENDAR
VERSION:2.0
PRODID:-//Mairie de Drap - ECPv5.14.0.4//NONSGML v1.0//EN
CALSCALE:GREGORIAN
METHOD:PUBLISH
X-WR-CALNAME:Mairie de Drap
X-ORIGINAL-URL:https://www.ville-drap.fr
X-WR-CALDESC:évènements pour Mairie de Drap
BEGIN:VTIMEZONE
TZID:Europe/Paris
BEGIN:DAYLIGHT
TZOFFSETFROM:+0100
TZOFFSETTO:+0200
TZNAME:CEST
DTSTART:20180325T010000
END:DAYLIGHT
BEGIN:STANDARD
TZOFFSETFROM:+0200
TZOFFSETTO:+0100
TZNAME:CET
DTSTART:20181028T010000
END:STANDARD
END:VTIMEZONE
BEGIN:VEVENT
DTSTART;TZID=Europe/Paris:20180505T090000
DTEND;TZID=Europe/Paris:20180505T123000
DTSTAMP:20260424T091652
CREATED:20180426T153525Z
LAST-MODIFIED:20180426T153525Z
UID:6180-1525510800-1525523400@www.ville-drap.fr
SUMMARY:Atelier "Concept Bien-être"
DESCRIPTION:Samedi 5 mai\n9-12h30\n Gymnase Vincent Calcagno\n 30 €\, Préinscription 25 €\n Renseignements : 06 02 53 76 50 \n  \nPlus d’infos…\nOrganisé par l’ADSCD avec 1 h 30 de Stretching profond et 1 hb 30 de Yoga Nidra.
URL:https://www.ville-drap.fr/events/atelier-concept-bien-etre/
END:VEVENT
END:VCALENDAR