BEGIN:VCALENDAR
VERSION:2.0
PRODID:-//Mairie de Drap - ECPv5.14.0.4//NONSGML v1.0//EN
CALSCALE:GREGORIAN
METHOD:PUBLISH
X-WR-CALNAME:Mairie de Drap
X-ORIGINAL-URL:https://www.ville-drap.fr
X-WR-CALDESC:évènements pour Mairie de Drap
BEGIN:VTIMEZONE
TZID:Europe/Paris
BEGIN:DAYLIGHT
TZOFFSETFROM:+0100
TZOFFSETTO:+0200
TZNAME:CEST
DTSTART:20180325T010000
END:DAYLIGHT
BEGIN:STANDARD
TZOFFSETFROM:+0200
TZOFFSETTO:+0100
TZNAME:CET
DTSTART:20181028T010000
END:STANDARD
END:VTIMEZONE
BEGIN:VEVENT
DTSTART;TZID=Europe/Paris:20180716T100000
DTEND;TZID=Europe/Paris:20180716T163000
DTSTAMP:20260425T223844
CREATED:20180522T153852Z
LAST-MODIFIED:20180522T154153Z
UID:6276-1531735200-1531758600@www.ville-drap.fr
SUMMARY:Caravane du sport
DESCRIPTION:Lundi 16 juillet\n10 h à 12 h 30 et 13 h 30 à 16 h 30\n Esplanade Jean Ferrat \n  \nPlus d’infos…\nOrganisée par le Comité départemental olympique et sportif des Alpes-Maritimes.
URL:https://www.ville-drap.fr/events/caravane-du-sport/
END:VEVENT
END:VCALENDAR