BEGIN:VCALENDAR
VERSION:2.0
PRODID:-//Mairie de Drap - ECPv5.14.0.4//NONSGML v1.0//EN
CALSCALE:GREGORIAN
METHOD:PUBLISH
X-WR-CALNAME:Mairie de Drap
X-ORIGINAL-URL:https://www.ville-drap.fr
X-WR-CALDESC:évènements pour Mairie de Drap
BEGIN:VTIMEZONE
TZID:Europe/Paris
BEGIN:DAYLIGHT
TZOFFSETFROM:+0100
TZOFFSETTO:+0200
TZNAME:CEST
DTSTART:20180325T010000
END:DAYLIGHT
BEGIN:STANDARD
TZOFFSETFROM:+0200
TZOFFSETTO:+0100
TZNAME:CET
DTSTART:20181028T010000
END:STANDARD
END:VTIMEZONE
BEGIN:VEVENT
DTSTART;TZID=Europe/Paris:20180508T080000
DTEND;TZID=Europe/Paris:20180508T110000
DTSTAMP:20260424T133511
CREATED:20180418T152819Z
LAST-MODIFIED:20180418T152819Z
UID:6155-1525766400-1525777200@www.ville-drap.fr
SUMMARY:Cérémonie de commémoration de la Victoire du 8 mai 1945
DESCRIPTION:Mardi 8 mai\n11 h 00\nMonument aux morts \n  \nPlus d’infos…
URL:https://www.ville-drap.fr/events/ceremonie-de-commemoration-de-victoire-8-mai-1945/
END:VEVENT
END:VCALENDAR