BEGIN:VCALENDAR
VERSION:2.0
PRODID:-//Mairie de Drap - ECPv5.14.0.4//NONSGML v1.0//EN
CALSCALE:GREGORIAN
METHOD:PUBLISH
X-WR-CALNAME:Mairie de Drap
X-ORIGINAL-URL:https://www.ville-drap.fr
X-WR-CALDESC:évènements pour Mairie de Drap
BEGIN:VTIMEZONE
TZID:UTC
BEGIN:STANDARD
TZOFFSETFROM:+0000
TZOFFSETTO:+0000
TZNAME:UTC
DTSTART:20250101T000000
END:STANDARD
END:VTIMEZONE
BEGIN:VEVENT
DTSTART;TZID=UTC:20250111T133000
DTEND;TZID=UTC:20250111T170000
DTSTAMP:20260424T220932
CREATED:20241227T151628Z
LAST-MODIFIED:20241227T151628Z
UID:16645-1736602200-1736614800@www.ville-drap.fr
SUMMARY:Cérémonie des vœux du Maire
DESCRIPTION:Samedi 11 janvier 2025\n14 h 00\n(13 h 30 accueil du public)\nEspace Jean Ferrat \n 
URL:https://www.ville-drap.fr/events/ceremonie-des-voeux-du-maire-2/
END:VEVENT
END:VCALENDAR