BEGIN:VCALENDAR
VERSION:2.0
PRODID:-//Mairie de Drap - ECPv5.14.0.4//NONSGML v1.0//EN
CALSCALE:GREGORIAN
METHOD:PUBLISH
X-WR-CALNAME:Mairie de Drap
X-ORIGINAL-URL:https://www.ville-drap.fr
X-WR-CALDESC:évènements pour Mairie de Drap
BEGIN:VTIMEZONE
TZID:Europe/Paris
BEGIN:DAYLIGHT
TZOFFSETFROM:+0100
TZOFFSETTO:+0200
TZNAME:CEST
DTSTART:20180325T010000
END:DAYLIGHT
BEGIN:STANDARD
TZOFFSETFROM:+0200
TZOFFSETTO:+0100
TZNAME:CET
DTSTART:20181028T010000
END:STANDARD
END:VTIMEZONE
BEGIN:VEVENT
DTSTART;TZID=Europe/Paris:20180113T140000
DTEND;TZID=Europe/Paris:20180113T170000
DTSTAMP:20260421T222133
CREATED:20171218T163206Z
LAST-MODIFIED:20171218T163206Z
UID:5419-1515852000-1515862800@www.ville-drap.fr
SUMMARY:Cérémonie des voeux du Maire
DESCRIPTION:Samedi 13 janvier\n14 h 00 : ouverture des portes\n 14 h 30 : allocution\n suivie du spectacle et du buffet offerts par la Municipalité
URL:https://www.ville-drap.fr/events/ceremonie-voeux-maire/
END:VEVENT
END:VCALENDAR