BEGIN:VCALENDAR
VERSION:2.0
PRODID:-//Mairie de Drap - ECPv5.14.0.4//NONSGML v1.0//EN
CALSCALE:GREGORIAN
METHOD:PUBLISH
X-WR-CALNAME:Mairie de Drap
X-ORIGINAL-URL:https://www.ville-drap.fr
X-WR-CALDESC:évènements pour Mairie de Drap
BEGIN:VTIMEZONE
TZID:Europe/Paris
BEGIN:DAYLIGHT
TZOFFSETFROM:+0100
TZOFFSETTO:+0200
TZNAME:CEST
DTSTART:20170326T010000
END:DAYLIGHT
BEGIN:STANDARD
TZOFFSETFROM:+0200
TZOFFSETTO:+0100
TZNAME:CET
DTSTART:20171029T010000
END:STANDARD
END:VTIMEZONE
BEGIN:VEVENT
DTSTART;TZID=Europe/Paris:20171203T140000
DTEND;TZID=Europe/Paris:20171203T170000
DTSTAMP:20260421T022407
CREATED:20171121T141403Z
LAST-MODIFIED:20171121T141403Z
UID:5218-1512309600-1512320400@www.ville-drap.fr
SUMMARY:Cinéma : « Opération Casse-noisette 2 »
DESCRIPTION:Dimanche 3 décembre\n14 h 00\n Espace Jean-Ferrat\n Entrée 5 €\, 3 € – de 14 ans\n Billetterie uniquement sur place dès 13 h 30 \nPlus d’infos…\nFilm d’animation américain\, à partir de 6 ans\nNos rongeurs préférés mènent la grande vie dans le sous-sol d’un magasin de noisettes\, jusqu’au jour où une explosion vient détruire leur caverne d’Ali Baba… A la recherche d’un nouveau lieu de vie\, Surly repère un magnifique parc qui serait idéal pour tous ! Problème : le maire de la ville souhaite transformer cet espace vert en parc d’attraction… Heureusement\, Surly va pouvoir compter sur de nouveaux amis : des milliers de souris blanches expertes en kung-fu ! \nPour visionner la bande-annonce\, cliquez ici
URL:https://www.ville-drap.fr/events/cinema-operation-casse-noisette-2/
END:VEVENT
END:VCALENDAR