BEGIN:VCALENDAR
VERSION:2.0
PRODID:-//Mairie de Drap - ECPv5.14.0.4//NONSGML v1.0//EN
CALSCALE:GREGORIAN
METHOD:PUBLISH
X-WR-CALNAME:Mairie de Drap
X-ORIGINAL-URL:https://www.ville-drap.fr
X-WR-CALDESC:évènements pour Mairie de Drap
BEGIN:VTIMEZONE
TZID:Europe/Paris
BEGIN:DAYLIGHT
TZOFFSETFROM:+0100
TZOFFSETTO:+0200
TZNAME:CEST
DTSTART:20170326T010000
END:DAYLIGHT
BEGIN:STANDARD
TZOFFSETFROM:+0200
TZOFFSETTO:+0100
TZNAME:CET
DTSTART:20171029T010000
END:STANDARD
END:VTIMEZONE
BEGIN:VEVENT
DTSTART;TZID=Europe/Paris:20171125T200000
DTEND;TZID=Europe/Paris:20171125T200000
DTSTAMP:20260420T205639
CREATED:20171027T155445Z
LAST-MODIFIED:20171027T165451Z
UID:5106-1511640000-1511640000@www.ville-drap.fr
SUMMARY:Comité des fêtes : Repas de la Sainte Catherine
DESCRIPTION:Samedi 25 Novembre\n20 h 00\n Espace Jean-Ferrat\n Adultes 18 € hors boissons\n Enfants de 4 à 12 ans : 10 €\n Réservations du 7 au 22 novembre à l’Espace Jean-Ferrat de 10 h à 12 h sauf le samedi\n Renseignements 06 19 67 97 58 et 06 85 57 55 02 \nPlus d’infos…\nLe Comité des fêtes de Drap en partenariat avec la Ville de Drap vous proposent une soirée conviviale. Au menu\, sangria\, soupe au pistou\, viande et garniture\, fromage\, dessert café et un concours de chapeaux !
URL:https://www.ville-drap.fr/events/comite-fetes-repas-de-sainte-catherine/
END:VEVENT
END:VCALENDAR