BEGIN:VCALENDAR
VERSION:2.0
PRODID:-//Mairie de Drap - ECPv5.14.0.4//NONSGML v1.0//EN
CALSCALE:GREGORIAN
METHOD:PUBLISH
X-WR-CALNAME:Mairie de Drap
X-ORIGINAL-URL:https://www.ville-drap.fr
X-WR-CALDESC:évènements pour Mairie de Drap
BEGIN:VTIMEZONE
TZID:UTC
BEGIN:STANDARD
TZOFFSETFROM:+0000
TZOFFSETTO:+0000
TZNAME:UTC
DTSTART:20250101T000000
END:STANDARD
END:VTIMEZONE
BEGIN:VEVENT
DTSTART;TZID=UTC:20250508T100000
DTEND;TZID=UTC:20250508T103000
DTSTAMP:20260422T185011
CREATED:20250409T102949Z
LAST-MODIFIED:20250409T103022Z
UID:16875-1746698400-1746700200@www.ville-drap.fr
SUMMARY:Commémoration de la victoire du 8 mai 1945
DESCRIPTION:10 h 00\nCarrefour du 8 mai
URL:https://www.ville-drap.fr/events/commemoration-de-la-victoire-du-8-mai-1945-5/
END:VEVENT
END:VCALENDAR