BEGIN:VCALENDAR
VERSION:2.0
PRODID:-//Mairie de Drap - ECPv5.14.0.4//NONSGML v1.0//EN
CALSCALE:GREGORIAN
METHOD:PUBLISH
X-WR-CALNAME:Mairie de Drap
X-ORIGINAL-URL:https://www.ville-drap.fr
X-WR-CALDESC:évènements pour Mairie de Drap
BEGIN:VTIMEZONE
TZID:UTC
BEGIN:STANDARD
TZOFFSETFROM:+0000
TZOFFSETTO:+0000
TZNAME:UTC
DTSTART:20240101T000000
END:STANDARD
END:VTIMEZONE
BEGIN:VEVENT
DTSTART;TZID=UTC:20241209T190000
DTEND;TZID=UTC:20241209T210000
DTSTAMP:20260424T153030
CREATED:20241204T082007Z
LAST-MODIFIED:20241204T110833Z
UID:16629-1733770800-1733778000@www.ville-drap.fr
SUMMARY:Conseil municipal
DESCRIPTION:Lundi 9 décembre\n19 h 00\nSalle du Conseil Municipal (Bd Stalingrad) \n  \nPlus d’infos…\nCi-dessous l’ordre du jour :
URL:https://www.ville-drap.fr/events/conseil-municipal-18/
END:VEVENT
END:VCALENDAR