BEGIN:VCALENDAR
VERSION:2.0
PRODID:-//Mairie de Drap - ECPv5.14.0.4//NONSGML v1.0//EN
CALSCALE:GREGORIAN
METHOD:PUBLISH
X-WR-CALNAME:Mairie de Drap
X-ORIGINAL-URL:https://www.ville-drap.fr
X-WR-CALDESC:évènements pour Mairie de Drap
BEGIN:VTIMEZONE
TZID:UTC
BEGIN:STANDARD
TZOFFSETFROM:+0000
TZOFFSETTO:+0000
TZNAME:UTC
DTSTART:20250101T000000
END:STANDARD
END:VTIMEZONE
BEGIN:VEVENT
DTSTART;TZID=UTC:20250227T193000
DTEND;TZID=UTC:20250227T203000
DTSTAMP:20260425T134324
CREATED:20250224T141302Z
LAST-MODIFIED:20250224T141302Z
UID:16770-1740684600-1740688200@www.ville-drap.fr
SUMMARY:Conseil municipal
DESCRIPTION:Jeudi 27 février\n19 h 30\nSalle du Conseil Municipal (Bd Stalingrad) \n  \nPlus d’infos…\nCi-dessous l’ordre du jour :
URL:https://www.ville-drap.fr/events/conseil-municipal-19/
END:VEVENT
END:VCALENDAR