BEGIN:VCALENDAR
VERSION:2.0
PRODID:-//Mairie de Drap - ECPv5.14.0.4//NONSGML v1.0//EN
CALSCALE:GREGORIAN
METHOD:PUBLISH
X-WR-CALNAME:Mairie de Drap
X-ORIGINAL-URL:https://www.ville-drap.fr
X-WR-CALDESC:évènements pour Mairie de Drap
BEGIN:VTIMEZONE
TZID:Europe/Paris
BEGIN:DAYLIGHT
TZOFFSETFROM:+0100
TZOFFSETTO:+0200
TZNAME:CEST
DTSTART:20180325T010000
END:DAYLIGHT
BEGIN:STANDARD
TZOFFSETFROM:+0200
TZOFFSETTO:+0100
TZNAME:CET
DTSTART:20181028T010000
END:STANDARD
END:VTIMEZONE
BEGIN:VEVENT
DTSTART;TZID=Europe/Paris:20180115T190000
DTEND;TZID=Europe/Paris:20180115T203000
DTSTAMP:20260422T000428
CREATED:20180109T165059Z
LAST-MODIFIED:20180109T165133Z
UID:5544-1516042800-1516048200@www.ville-drap.fr
SUMMARY:Conseil municipal
DESCRIPTION:Lundi 15 janvier\n19 h\n Salle du Conseil municipal \n  \nPlus d’infos…
URL:https://www.ville-drap.fr/events/conseil-municipal-6/
END:VEVENT
END:VCALENDAR