BEGIN:VCALENDAR
VERSION:2.0
PRODID:-//Mairie de Drap - ECPv5.14.0.4//NONSGML v1.0//EN
CALSCALE:GREGORIAN
METHOD:PUBLISH
X-WR-CALNAME:Mairie de Drap
X-ORIGINAL-URL:https://www.ville-drap.fr
X-WR-CALDESC:évènements pour Mairie de Drap
BEGIN:VTIMEZONE
TZID:UTC
BEGIN:STANDARD
TZOFFSETFROM:+0000
TZOFFSETTO:+0000
TZNAME:UTC
DTSTART:20240101T000000
END:STANDARD
END:VTIMEZONE
BEGIN:VEVENT
DTSTART;TZID=UTC:20240623T083000
DTEND;TZID=UTC:20240623T170000
DTSTAMP:20260421T130210
CREATED:20240426T080737Z
LAST-MODIFIED:20240514T121841Z
UID:15854-1719131400-1719162000@www.ville-drap.fr
SUMMARY:Cyclosportive La Drapoise - Souvenir René Vietto
DESCRIPTION:Dimanche 23 juin\nDépart 8 h 30 de Drap\nInscriptions exclusivement sur le site internet /https://cyclosportivevietto.com/ ou sur place le 22 juin de 14 h à 19 h\nRenseignements au 06 22 29 15 71 \nPlus d’infos…\nOrganisé par l’ASBTP Cyclisme en partenariat avec la Ville de Drap vous proposent deux parcours : 93 km et 121 km. \n 
URL:https://www.ville-drap.fr/events/cyclosportive-la-drapooise-souvenir-rene-vietto-copy/
END:VEVENT
END:VCALENDAR