BEGIN:VCALENDAR
VERSION:2.0
PRODID:-//Mairie de Drap - ECPv5.14.0.4//NONSGML v1.0//EN
CALSCALE:GREGORIAN
METHOD:PUBLISH
X-WR-CALNAME:Mairie de Drap
X-ORIGINAL-URL:https://www.ville-drap.fr
X-WR-CALDESC:évènements pour Mairie de Drap
BEGIN:VTIMEZONE
TZID:UTC
BEGIN:STANDARD
TZOFFSETFROM:+0000
TZOFFSETTO:+0000
TZNAME:UTC
DTSTART:20240101T000000
END:STANDARD
END:VTIMEZONE
BEGIN:VEVENT
DTSTART;TZID=UTC:20240525T100000
DTEND;TZID=UTC:20240525T170000
DTSTAMP:20260420T035316
CREATED:20240426T075409Z
LAST-MODIFIED:20240514T122421Z
UID:15845-1716631200-1716656400@www.ville-drap.fr
SUMMARY:Drap'art - Salon des métiers de l'Art et de l'Artisanat
DESCRIPTION:Samedi 25 mai\n10-17 h\nEspace Jean Ferrat\nInfos : 04 97 00 06 30 \nPlus d’infos…\nProfitez d’une exposition hybride : peinture\, graff\, dessin\, sculpture et rencontrez les artistes ! Des artisans seront aussi présents pour vous faire découvrir ou redécouvrir leur métier.
URL:https://www.ville-drap.fr/events/drapart-salon-des-metiers-de-lart-et-de-lartisanat/
END:VEVENT
END:VCALENDAR