BEGIN:VCALENDAR
VERSION:2.0
PRODID:-//Mairie de Drap - ECPv5.14.0.4//NONSGML v1.0//EN
CALSCALE:GREGORIAN
METHOD:PUBLISH
X-WR-CALNAME:Mairie de Drap
X-ORIGINAL-URL:https://www.ville-drap.fr
X-WR-CALDESC:évènements pour Mairie de Drap
BEGIN:VTIMEZONE
TZID:UTC
BEGIN:STANDARD
TZOFFSETFROM:+0000
TZOFFSETTO:+0000
TZNAME:UTC
DTSTART:20240101T000000
END:STANDARD
END:VTIMEZONE
BEGIN:VEVENT
DTSTART;TZID=UTC:20240711T080000
DTEND;TZID=UTC:20240711T170000
DTSTAMP:20260422T025121
CREATED:20240423T134540Z
LAST-MODIFIED:20240514T123730Z
UID:15823-1720684800-1720717200@www.ville-drap.fr
SUMMARY:Escapade à Saint-Paul-de-Vence
DESCRIPTION:Jeudi 11 juillet\nDépart de Drap à 9h\nRetour sur Drap à 17h00\nGratuit\nSur inscriptions auprès du CCAS au 04 97 00 06 30 \n  \nPlus d’infos…\nAu programme : Visite de la Fondation Maeght (option sur inscriptions)\, Repas libre – Visite de la Ville – Visite de la Chapelle Folon (option sur inscriptions)
URL:https://www.ville-drap.fr/events/escapade-a-saint-paul-de-vence/
END:VEVENT
END:VCALENDAR