BEGIN:VCALENDAR
VERSION:2.0
PRODID:-//Mairie de Drap - ECPv5.14.0.4//NONSGML v1.0//EN
CALSCALE:GREGORIAN
METHOD:PUBLISH
X-WR-CALNAME:Mairie de Drap
X-ORIGINAL-URL:https://www.ville-drap.fr
X-WR-CALDESC:évènements pour Mairie de Drap
BEGIN:VTIMEZONE
TZID:UTC
BEGIN:STANDARD
TZOFFSETFROM:+0000
TZOFFSETTO:+0000
TZNAME:UTC
DTSTART:20240101T000000
END:STANDARD
END:VTIMEZONE
BEGIN:VEVENT
DTSTART;TZID=UTC:20240531T083000
DTEND;TZID=UTC:20240531T170000
DTSTAMP:20260420T095913
CREATED:20240423T134147Z
LAST-MODIFIED:20240514T123543Z
UID:15820-1717144200-1717174800@www.ville-drap.fr
SUMMARY:Escapade à Vintimille
DESCRIPTION:Vendredi 31 mai\nDépart à 8h30 de Drap – Visite du marché – Repas libre – Visite de la vieille ville – Retour à Drap à 17h00\nGratuit – \nSur inscriptions auprès du CCAS au 04 97 00 06 30
URL:https://www.ville-drap.fr/events/escapade-a-vintimille/
END:VEVENT
END:VCALENDAR