BEGIN:VCALENDAR
VERSION:2.0
PRODID:-//Mairie de Drap - ECPv5.14.0.4//NONSGML v1.0//EN
CALSCALE:GREGORIAN
METHOD:PUBLISH
X-WR-CALNAME:Mairie de Drap
X-ORIGINAL-URL:https://www.ville-drap.fr
X-WR-CALDESC:évènements pour Mairie de Drap
BEGIN:VTIMEZONE
TZID:Europe/Paris
BEGIN:DAYLIGHT
TZOFFSETFROM:+0100
TZOFFSETTO:+0200
TZNAME:CEST
DTSTART:20180325T010000
END:DAYLIGHT
BEGIN:STANDARD
TZOFFSETFROM:+0200
TZOFFSETTO:+0100
TZNAME:CET
DTSTART:20181028T010000
END:STANDARD
END:VTIMEZONE
BEGIN:VEVENT
DTSTART;TZID=Europe/Paris:20180809T210000
DTEND;TZID=Europe/Paris:20180809T230000
DTSTAMP:20260426T044909
CREATED:20180612T152325Z
LAST-MODIFIED:20180612T152325Z
UID:6411-1533848400-1533855600@www.ville-drap.fr
SUMMARY:Estivales du Conseil départemental : Cinquante et une nuances de jaune
DESCRIPTION:Jeudi 9 août\nEspace Jean Ferrat\n21 h 00\nEntrée libre\nRenseignements : 09 61 22 06 87 \nPlus d’infos…\nHéléna\, stricte et un peu coincée\, directrice d’une grande marque de luxe\, apprend que son mari l’a trompée\, et décide de se mettre au vert le temps d’un week-end. Elle croit partir à Megève mais se retrouve en panne dans un bled paumé et abandonné du nom de Puy Sans Fond. Il ne reste qu’un bar miteux. Le souci\, c’est qu’il est impossible de la dépanner avant le lundi. Elle va donc passer son week-end dans le bar car il n’y a aucun hôtel ni chambre d’hôtes aux alentours. Le bar est tenu par Jean-Michel\, crade\, misogyne\, désagréable et souvent bourré\, vivant seul avec sa plante verte mais produisant « un pastis aux vertus… extraordinaires ». La rencontre entre ces deux âmes perdues\, totalement opposées\, promet d’être explosive dans cette comédie romantiquement drôle.
URL:https://www.ville-drap.fr/events/estivales-conseil-departemental-cinquante-nuances-de-jaune/
END:VEVENT
END:VCALENDAR