BEGIN:VCALENDAR
VERSION:2.0
PRODID:-//Mairie de Drap - ECPv5.14.0.4//NONSGML v1.0//EN
CALSCALE:GREGORIAN
METHOD:PUBLISH
X-WR-CALNAME:Mairie de Drap
X-ORIGINAL-URL:https://www.ville-drap.fr
X-WR-CALDESC:évènements pour Mairie de Drap
BEGIN:VTIMEZONE
TZID:Europe/Paris
BEGIN:DAYLIGHT
TZOFFSETFROM:+0100
TZOFFSETTO:+0200
TZNAME:CEST
DTSTART:20180325T010000
END:DAYLIGHT
BEGIN:STANDARD
TZOFFSETFROM:+0200
TZOFFSETTO:+0100
TZNAME:CET
DTSTART:20181028T010000
END:STANDARD
END:VTIMEZONE
BEGIN:VEVENT
DTSTART;TZID=Europe/Paris:20180414T143000
DTEND;TZID=Europe/Paris:20180430T173000
DTSTAMP:20260424T001351
CREATED:20180321T112009Z
LAST-MODIFIED:20180321T112617Z
UID:5932-1523716200-1525109400@www.ville-drap.fr
SUMMARY:Exposition de Louise Caroline : "Pièces de drap"
DESCRIPTION:Du 14 au 30 avril\n14 h 30-17 h 30\n Moulin\n Entrée libre\n Renseignements : 09 61 22 06 87 \n  \nPlus d’infos…\nLa Ville de Drap présente les « Pièces de drap » de Louise Caroline. Vernissage le 14 avril à 11 h 15 au Moulin.
URL:https://www.ville-drap.fr/events/exposition-de-louise-caroline-pieces-de-drap/
END:VEVENT
END:VCALENDAR