BEGIN:VCALENDAR
VERSION:2.0
PRODID:-//Mairie de Drap - ECPv5.14.0.4//NONSGML v1.0//EN
CALSCALE:GREGORIAN
METHOD:PUBLISH
X-WR-CALNAME:Mairie de Drap
X-ORIGINAL-URL:https://www.ville-drap.fr
X-WR-CALDESC:évènements pour Mairie de Drap
BEGIN:VTIMEZONE
TZID:Europe/Paris
BEGIN:DAYLIGHT
TZOFFSETFROM:+0100
TZOFFSETTO:+0200
TZNAME:CEST
DTSTART:20180325T010000
END:DAYLIGHT
BEGIN:STANDARD
TZOFFSETFROM:+0200
TZOFFSETTO:+0100
TZNAME:CET
DTSTART:20181028T010000
END:STANDARD
END:VTIMEZONE
BEGIN:VEVENT
DTSTART;TZID=Europe/Paris:20180406T143000
DTEND;TZID=Europe/Paris:20180414T193000
DTSTAMP:20260423T144454
CREATED:20180316T173205Z
LAST-MODIFIED:20180316T174147Z
UID:5918-1523025000-1523734200@www.ville-drap.fr
SUMMARY:Exposition "Fantasfiction"
DESCRIPTION:Du 6 au 14 avril\n14 h 30 – 19 h 30\n Espace Jean Ferrat\n Entrée libre\n Renseignements : 09 61 22 06 87 \n\nPlus d’infos…\nLa Ville de Drap et Auklair présentent une exposition de personnages en taille réelle\, de tableaux Steampunk et de Digital art sur le thème « L’art autour du fantastique et de la fiction ». Rencontrez l’artiste lors du vernissage le 6 avril à 18 h 00 à l’Espace Jean Ferrat.
URL:https://www.ville-drap.fr/events/exposition-fantasfiction/
END:VEVENT
END:VCALENDAR