BEGIN:VCALENDAR
VERSION:2.0
PRODID:-//Mairie de Drap - ECPv5.14.0.4//NONSGML v1.0//EN
CALSCALE:GREGORIAN
METHOD:PUBLISH
X-WR-CALNAME:Mairie de Drap
X-ORIGINAL-URL:https://www.ville-drap.fr
X-WR-CALDESC:évènements pour Mairie de Drap
BEGIN:VTIMEZONE
TZID:UTC
BEGIN:STANDARD
TZOFFSETFROM:+0000
TZOFFSETTO:+0000
TZNAME:UTC
DTSTART:20240101T000000
END:STANDARD
END:VTIMEZONE
BEGIN:VEVENT
DTSTART;TZID=UTC:20240621T220000
DTEND;TZID=UTC:20240621T233000
DTSTAMP:20260421T082132
CREATED:20240531T085640Z
LAST-MODIFIED:20240531T091553Z
UID:15999-1719007200-1719012600@www.ville-drap.fr
SUMMARY:Fête patronale
DESCRIPTION:Du vendredi 21 au lundi 24 juin\nVendredi 21 juin \n22 h 00 : Bal gratuit avec le Grand orchestre «Almeras» au Plateau sportif du centre village\nUn show dansant époustouflant ! \nBuvette et restauration assurées par l’association Fêtes et traditions de Drap \nSécurité assurée – Infos au 04 97 00 06 30
URL:https://www.ville-drap.fr/events/fete-patronale-3/
END:VEVENT
END:VCALENDAR