BEGIN:VCALENDAR
VERSION:2.0
PRODID:-//Mairie de Drap - ECPv5.14.0.4//NONSGML v1.0//EN
CALSCALE:GREGORIAN
METHOD:PUBLISH
X-WR-CALNAME:Mairie de Drap
X-ORIGINAL-URL:https://www.ville-drap.fr
X-WR-CALDESC:évènements pour Mairie de Drap
BEGIN:VTIMEZONE
TZID:UTC
BEGIN:STANDARD
TZOFFSETFROM:+0000
TZOFFSETTO:+0000
TZNAME:UTC
DTSTART:20240101T000000
END:STANDARD
END:VTIMEZONE
BEGIN:VEVENT
DTSTART;TZID=UTC:20240622T100000
DTEND;TZID=UTC:20240622T233000
DTSTAMP:20260421T110122
CREATED:20240531T091501Z
LAST-MODIFIED:20240531T091532Z
UID:16006-1719050400-1719099000@www.ville-drap.fr
SUMMARY:Fête patronale
DESCRIPTION:Du vendredi 21 au lundi 24 juin\nSamedi 22 juin \n10h/17 h : Structures Gonflables en accès libre dans la cour de l’école élémentaire de La Condamine et au Plateau sportif du centre village.\n14 h 00 : Concours de pétanque organisé par l’association LA BOULE CDM DRAP\nDoublettes arrangées – 5€/personne – Récompenses Mises + Bonus\nInscriptions sur place – Renseignements : 06 16 04 10 58\n22 h 00 : Bal gratuit avec Riviera DJ Show Music… Une ambiance\, des danseuses… Un show ! Buvette et restauration assurées par l’association Fêtes et traditions de Drap\nPlateau sportif du centre village \nSécurité assurée – Infos au 04 97 00 06 30
URL:https://www.ville-drap.fr/events/fete-patronale-4/
END:VEVENT
END:VCALENDAR