BEGIN:VCALENDAR
VERSION:2.0
PRODID:-//Mairie de Drap - ECPv5.14.0.4//NONSGML v1.0//EN
CALSCALE:GREGORIAN
METHOD:PUBLISH
X-WR-CALNAME:Mairie de Drap
X-ORIGINAL-URL:https://www.ville-drap.fr
X-WR-CALDESC:évènements pour Mairie de Drap
BEGIN:VTIMEZONE
TZID:UTC
BEGIN:STANDARD
TZOFFSETFROM:+0000
TZOFFSETTO:+0000
TZNAME:UTC
DTSTART:20240101T000000
END:STANDARD
END:VTIMEZONE
BEGIN:VEVENT
DTSTART;TZID=UTC:20240623T080000
DTEND;TZID=UTC:20240623T223000
DTSTAMP:20260421T124216
CREATED:20240531T091651Z
LAST-MODIFIED:20240531T091712Z
UID:16010-1719129600-1719181800@www.ville-drap.fr
SUMMARY:Fête patronale
DESCRIPTION:Du vendredi 21 au lundi 24 juin\nDimanche 23 juin \n08 h 00 : 3ème édition de la Cyclosportive «La Drapoise – Souvenir René Vietto»\n10 h 00 : Messe solennelle de la Saint Jean-Baptiste en extérieur\, Place de la Libération\,\nsuivie de la procession dans les rues du village\n19 h 00 : Dépôts de gerbes au Monument aux morts suivi des allocutions\, du spectacle de\nLET’S DANCE et de l’apéritif d’honneur offert par la Municipalité Place Clemenceau\nAnimation musicale assurée \nSécurité assurée – Infos au 04 97 00 06 30
URL:https://www.ville-drap.fr/events/fete-patronale-5/
END:VEVENT
END:VCALENDAR